BEGIN:VCALENDAR
VERSION:2.0
PRODID:-//Port Renfrew Visitor Information Centre for all of Port Renfrew, Vancouver Island, BC. - ECPv6.15.20//NONSGML v1.0//EN
CALSCALE:GREGORIAN
METHOD:PUBLISH
X-ORIGINAL-URL:https://myportrenfrew.ca
X-WR-CALDESC:Events for Port Renfrew Visitor Information Centre for all of Port Renfrew, Vancouver Island, BC.
REFRESH-INTERVAL;VALUE=DURATION:PT1H
X-Robots-Tag:noindex
X-PUBLISHED-TTL:PT1H
BEGIN:VTIMEZONE
TZID:America/Los_Angeles
BEGIN:DAYLIGHT
TZOFFSETFROM:-0800
TZOFFSETTO:-0700
TZNAME:PDT
DTSTART:20240310T100000
END:DAYLIGHT
BEGIN:STANDARD
TZOFFSETFROM:-0700
TZOFFSETTO:-0800
TZNAME:PST
DTSTART:20241103T090000
END:STANDARD
BEGIN:DAYLIGHT
TZOFFSETFROM:-0800
TZOFFSETTO:-0700
TZNAME:PDT
DTSTART:20250309T100000
END:DAYLIGHT
BEGIN:STANDARD
TZOFFSETFROM:-0700
TZOFFSETTO:-0800
TZNAME:PST
DTSTART:20251102T090000
END:STANDARD
BEGIN:DAYLIGHT
TZOFFSETFROM:-0800
TZOFFSETTO:-0700
TZNAME:PDT
DTSTART:20260308T100000
END:DAYLIGHT
BEGIN:STANDARD
TZOFFSETFROM:-0700
TZOFFSETTO:-0800
TZNAME:PST
DTSTART:20261101T090000
END:STANDARD
END:VTIMEZONE
BEGIN:VEVENT
DTSTART;VALUE=DATE:20250701
DTEND;VALUE=DATE:20250702
DTSTAMP:20260424T100534
CREATED:20250502T213016Z
LAST-MODIFIED:20250612T223019Z
UID:4256-1751328000-1751414399@myportrenfrew.ca
SUMMARY:Canada Day Events 2025
DESCRIPTION:Celebrate Canada Day in Port Renfrew! \n10:30 AM – Kids Fishing Derby\nGateway Marina | Ages 1–12\nWeigh-in at 12:00 PM\, followed by hot dogs served by the Port Renfrew Fire Department at 12:15 PM. \n \n3:00 PM – Canada Day Parade\nTheme: Fantasy – Creatures of the Forest and Sea\nParade floats and decorated bikes gather at 2:30 PM at the Wild Renfrew roundabout. The parade begins at 3:00 PM and travels down Parkinson Road to Beach Camp Park. \nPost-Parade Festivities at Beach Camp Park\nJoin us after the parade for an afternoon of games\, food\, prizes\, and fun activities for all ages. \nAfter Dark – Fireworks Show\nHead to the Government Wharf by The Renfrew Pub to enjoy a spectacular fireworks display.
URL:https://myportrenfrew.ca/event/canada-day-2025/
END:VEVENT
BEGIN:VEVENT
DTSTART;TZID=America/Los_Angeles:20250621T190000
DTEND;TZID=America/Los_Angeles:20250621T220000
DTSTAMP:20260424T100534
CREATED:20250602T205717Z
LAST-MODIFIED:20250602T205742Z
UID:4292-1750532400-1750543200@myportrenfrew.ca
SUMMARY:Summer Solstice - Concert in the Park
DESCRIPTION:Celebrate the Summer Solstice with the Bandidos BAND! \nJoin us on June 21st for an unforgettable evening of music under the summer sky. Gather your friends and family\, bring a blanket or chair\, and enjoy a lively concert in the park featuring the energetic Bandidos BAND. As we mark the longest day of the year\, join the community to soak up the sun\, dance to great tunes\, and welcome summer in style!
URL:https://myportrenfrew.ca/event/concert-in-the-park/
ATTACH;FMTTYPE=image/jpeg:https://myportrenfrew.ca/wp-content/uploads/2025/06/June-21-2025-Port-Renfrew-Event.jpg
END:VEVENT
BEGIN:VEVENT
DTSTART;TZID=America/Los_Angeles:20250516T090000
DTEND;TZID=America/Los_Angeles:20250516T163000
DTSTAMP:20260424T100534
CREATED:20250502T211618Z
LAST-MODIFIED:20250502T211618Z
UID:4253-1747386000-1747413000@myportrenfrew.ca
SUMMARY:Port Renfrew Visitor Centre Seasonal Opening
DESCRIPTION:The Port Renfrew Visitor Information Centre will be reopening for the season on May 16th\, and we can’t wait to welcome you! Come visit us to access Wi-Fi and restrooms\, pick up a map\, or learn more about the area. Our hours of operation are Thursday to Monday\, from 9:00 AM to 4:30 PM.
URL:https://myportrenfrew.ca/event/port-renfrew-visitor-centre-seasonal-opening/
LOCATION:Port Renfrew Visitor Centre\, 16947 Parkinson Rd B Building\, Port Renfrew\, Canada
END:VEVENT
END:VCALENDAR